BEGIN:VCALENDAR
VERSION:2.0
PRODID:-//Upplands Golfförbund - ECPv4.6.9//NONSGML v1.0//EN
CALSCALE:GREGORIAN
METHOD:PUBLISH
X-WR-CALNAME:Upplands Golfförbund
X-ORIGINAL-URL:https://www.upplandsgolf.se
X-WR-CALDESC:Events for Upplands Golfförbund
BEGIN:VEVENT
DTSTART;TZID=Europe/Stockholm:20220120T183000
DTEND;TZID=Europe/Stockholm:20220120T203000
DTSTAMP:20260420T042539
CREATED:20220110T173714Z
LAST-MODIFIED:20220110T174912Z
UID:9746-1642703400-1642710600@www.upplandsgolf.se
SUMMARY:Upptaktsmöte digitalt möte
DESCRIPTION:\nHej Alla\, \n\nPga den rådande Coronasituationen har jag beslutat att vi flyttar mötet både när det gäller tid och plats.\n\nMötet blir nu digitalt och datumet blir den 20:e januari kl 18:30. Bifogar även reviderad agenda.\n\nMeddela mig om du kan komma så skickar jag länken till mötet.\n\n\n\n_Agenda Upptaktsträff 20jan-22 digitalt \n\n\nGolfhälsningar\n\nHasse Andersson\n\nOrdförande\nUpplands Golfförbund\n\n\n\n\n\n070-567 16 14\nHasse.andersson@upplandsgolf.se\n\n\n\n\n\n\n
URL:https://www.upplandsgolf.se/event/upptaktsmote-digitalt-mote/
CATEGORIES:Upptaktsmöte
ATTACH;FMTTYPE=image/jpeg:https://www.upplandsgolf.se/wp-content/uploads/2022/01/Effektiva-Digitala-Moten-1200x901.jpg
END:VEVENT
END:VCALENDAR