BEGIN:VCALENDAR
VERSION:2.0
PRODID:-//Upplands Golfförbund - ECPv4.6.9//NONSGML v1.0//EN
CALSCALE:GREGORIAN
METHOD:PUBLISH
X-WR-CALNAME:Upplands Golfförbund
X-ORIGINAL-URL:https://www.upplandsgolf.se
X-WR-CALDESC:Events for Upplands Golfförbund
BEGIN:VEVENT
DTSTART;VALUE=DATE:20170527
DTEND;VALUE=DATE:20170528
DTSTAMP:20260421T004733
CREATED:20170427T202318Z
LAST-MODIFIED:20170427T202318Z
UID:2032-1495843200-1495929599@www.upplandsgolf.se
SUMMARY:Upplands Juniortour omg 1
DESCRIPTION:
URL:https://www.upplandsgolf.se/event/upplands-juniortour-omg-1/
LOCATION:Västanåvägen 5\, Älvkarleby\, 814 94
CATEGORIES:Junior-Elit,Tävling
END:VEVENT
END:VCALENDAR