BEGIN:VCALENDAR
VERSION:2.0
PRODID:-//Upplands Golfförbund - ECPv4.6.9//NONSGML v1.0//EN
CALSCALE:GREGORIAN
METHOD:PUBLISH
X-WR-CALNAME:Upplands Golfförbund
X-ORIGINAL-URL:https://www.upplandsgolf.se
X-WR-CALDESC:Events for Upplands Golfförbund
BEGIN:VEVENT
DTSTART;TZID=Europe/Stockholm:20180527T080000
DTEND;TZID=Europe/Stockholm:20180527T170000
DTSTAMP:20260420T154835
CREATED:20180425T191643Z
LAST-MODIFIED:20180425T192137Z
UID:4692-1527408000-1527440400@www.upplandsgolf.se
SUMMARY:UGFs seriespel #1
DESCRIPTION:
URL:https://www.upplandsgolf.se/event/ugfs-seriespel-1/
CATEGORIES:Tävling
END:VEVENT
END:VCALENDAR