BEGIN:VCALENDAR
VERSION:2.0
PRODID:-//Upplands Golfförbund - ECPv4.6.9//NONSGML v1.0//EN
CALSCALE:GREGORIAN
METHOD:PUBLISH
X-WR-CALNAME:Upplands Golfförbund
X-ORIGINAL-URL:https://www.upplandsgolf.se
X-WR-CALDESC:Events for Upplands Golfförbund
BEGIN:VEVENT
DTSTART;VALUE=DATE:20170621
DTEND;VALUE=DATE:20170623
DTSTAMP:20260420T210522
CREATED:20170618T193102Z
LAST-MODIFIED:20170618T193102Z
UID:2767-1498003200-1498175999@www.upplandsgolf.se
SUMMARY:UGF Summer Golf Camp
DESCRIPTION:
URL:https://www.upplandsgolf.se/event/ugf-summer-golf-camp/
LOCATION:Håmö Gård \, Uppsala\, 755 92
CATEGORIES:Junior-Elit,Utbildning
END:VEVENT
END:VCALENDAR