BEGIN:VCALENDAR
VERSION:2.0
PRODID:-//Upplands Golfförbund - ECPv4.6.9//NONSGML v1.0//EN
CALSCALE:GREGORIAN
METHOD:PUBLISH
X-WR-CALNAME:Upplands Golfförbund
X-ORIGINAL-URL:https://www.upplandsgolf.se
X-WR-CALDESC:Events for Upplands Golfförbund
BEGIN:VEVENT
DTSTART;TZID=Europe/Stockholm:20260115T183000
DTEND;TZID=Europe/Stockholm:20260115T200000
DTSTAMP:20260419T163542
CREATED:20260103T115506Z
LAST-MODIFIED:20260103T121607Z
UID:17014-1768501800-1768507200@www.upplandsgolf.se
SUMMARY:UGF styrelsemöte (teams)
DESCRIPTION:
URL:https://www.upplandsgolf.se/event/ugf-styrelsemote-teams-2/
CATEGORIES:UGF möten
ATTACH;FMTTYPE=image/jpeg:https://www.upplandsgolf.se/wp-content/uploads/2023/12/natmote.jpg
END:VEVENT
END:VCALENDAR