BEGIN:VCALENDAR
VERSION:2.0
PRODID:-//Upplands Golfförbund - ECPv4.6.9//NONSGML v1.0//EN
CALSCALE:GREGORIAN
METHOD:PUBLISH
X-WR-CALNAME:Upplands Golfförbund
X-ORIGINAL-URL:https://www.upplandsgolf.se
X-WR-CALDESC:Events for Upplands Golfförbund
BEGIN:VEVENT
DTSTART;TZID=Europe/Stockholm:20240918T183000
DTEND;TZID=Europe/Stockholm:20240918T203000
DTSTAMP:20260419T180020
CREATED:20231215T115948Z
LAST-MODIFIED:20231215T120111Z
UID:12232-1726684200-1726691400@www.upplandsgolf.se
SUMMARY:UGF Styrelsemöte
DESCRIPTION:
URL:https://www.upplandsgolf.se/event/ugf-styrelsemote-3/
LOCATION:Håmö Gård \, Uppsala\, 755 92
CATEGORIES:UGF möten
ATTACH;FMTTYPE=image/png:https://www.upplandsgolf.se/wp-content/uploads/2023/06/UGFstyrelsemote.png
END:VEVENT
END:VCALENDAR