BEGIN:VCALENDAR
VERSION:2.0
PRODID:-//Upplands Golfförbund - ECPv4.6.9//NONSGML v1.0//EN
CALSCALE:GREGORIAN
METHOD:PUBLISH
X-WR-CALNAME:Upplands Golfförbund
X-ORIGINAL-URL:https://www.upplandsgolf.se
X-WR-CALDESC:Events for Upplands Golfförbund
BEGIN:VEVENT
DTSTART;TZID=Europe/Stockholm:20210528T000000
DTEND;TZID=Europe/Stockholm:20210528T000000
DTSTAMP:20260420T055436
CREATED:20210211T155507Z
LAST-MODIFIED:20210211T155507Z
UID:8862-1622160000-1622160000@www.upplandsgolf.se
SUMMARY:Styrelsemöte med Golfspel
DESCRIPTION:
URL:https://www.upplandsgolf.se/event/styrelsemote-med-golfspel/
CATEGORIES:UGF möten
END:VEVENT
END:VCALENDAR