BEGIN:VCALENDAR
VERSION:2.0
PRODID:-//Upplands Golfförbund - ECPv4.6.9//NONSGML v1.0//EN
CALSCALE:GREGORIAN
METHOD:PUBLISH
X-WR-CALNAME:Upplands Golfförbund
X-ORIGINAL-URL:https://www.upplandsgolf.se
X-WR-CALDESC:Events for Upplands Golfförbund
BEGIN:VEVENT
DTSTART;TZID=Europe/Stockholm:20191114T180000
DTEND;TZID=Europe/Stockholm:20191114T210000
DTSTAMP:20260420T072121
CREATED:20190105T144900Z
LAST-MODIFIED:20190105T160052Z
UID:6897-1573754400-1573765200@www.upplandsgolf.se
SUMMARY:Styrelsemöte
DESCRIPTION:
URL:https://www.upplandsgolf.se/event/styrelsemote-9/
END:VEVENT
END:VCALENDAR