BEGIN:VCALENDAR
VERSION:2.0
PRODID:-//Upplands Golfförbund - ECPv4.6.9//NONSGML v1.0//EN
CALSCALE:GREGORIAN
METHOD:PUBLISH
X-WR-CALNAME:Upplands Golfförbund
X-ORIGINAL-URL:https://www.upplandsgolf.se
X-WR-CALDESC:Events for Upplands Golfförbund
BEGIN:VEVENT
DTSTART;TZID=Europe/Stockholm:20231113T183000
DTEND;TZID=Europe/Stockholm:20231113T203000
DTSTAMP:20260419T213632
CREATED:20221206T185349Z
LAST-MODIFIED:20231113T104219Z
UID:10709-1699900200-1699907400@www.upplandsgolf.se
SUMMARY:Styrelsemöte
DESCRIPTION:Kallelse till styrelsemöte i Upplands Golfförbund Nr 1/2024\, 2023-11-13 \nK1-2024_2023-11-13 \n\n
URL:https://www.upplandsgolf.se/event/styrelsemote-36/
LOCATION:Håmö Gård \, Uppsala\, 755 92
CATEGORIES:UGF möten
ATTACH;FMTTYPE=image/png:https://www.upplandsgolf.se/wp-content/uploads/2023/06/UGFstyrelsemote.png
END:VEVENT
END:VCALENDAR