BEGIN:VCALENDAR
VERSION:2.0
PRODID:-//Upplands Golfförbund - ECPv4.6.9//NONSGML v1.0//EN
CALSCALE:GREGORIAN
METHOD:PUBLISH
X-WR-CALNAME:Upplands Golfförbund
X-ORIGINAL-URL:https://www.upplandsgolf.se
X-WR-CALDESC:Events for Upplands Golfförbund
BEGIN:VEVENT
DTSTART;TZID=Europe/Stockholm:20230322T180000
DTEND;TZID=Europe/Stockholm:20230322T210000
DTSTAMP:20260419T231344
CREATED:20221206T183851Z
LAST-MODIFIED:20230308T154657Z
UID:10689-1679508000-1679518800@www.upplandsgolf.se
SUMMARY:Styrelsemöte
DESCRIPTION:
URL:https://www.upplandsgolf.se/event/styrelsemote-29/
CATEGORIES:UGF möten
ATTACH;FMTTYPE=image/png:https://www.upplandsgolf.se/wp-content/uploads/2018/09/hammare.png
END:VEVENT
END:VCALENDAR