BEGIN:VCALENDAR
VERSION:2.0
PRODID:-//Upplands Golfförbund - ECPv4.6.9//NONSGML v1.0//EN
CALSCALE:GREGORIAN
METHOD:PUBLISH
X-WR-CALNAME:Upplands Golfförbund
X-ORIGINAL-URL:https://www.upplandsgolf.se
X-WR-CALDESC:Events for Upplands Golfförbund
BEGIN:VEVENT
DTSTART;TZID=Europe/Stockholm:20230215T183000
DTEND;TZID=Europe/Stockholm:20230215T203000
DTSTAMP:20260419T230912
CREATED:20221206T183750Z
LAST-MODIFIED:20230210T080836Z
UID:10687-1676485800-1676493000@www.upplandsgolf.se
SUMMARY:Styrelsemöte
DESCRIPTION:Hej igen\, \nDå var det dags igen. Lite har nog hänt sedan senast. \nVänligen skicka in en rapport från din kommitté eller arbetsområde senast måndag 13 feb kl 15:00. \nSlutlig kallelse skickas senare den dagen eller den 14:e på FM. \nViktigt att ni stämmer av att det ni avsåg vara klara med till det här mötet verkligen är det. \nMötet är på Upsala GK och enklare förtäring erbjuds. \nOBS! Mötet börjar 18:30 för att alla ska hinna utan risk för fortkörning. \nMålet är att bli klara senast 20:30. \nVänligen \nM \n\nProtokoll från senaste mötet skickas ut redan denna vecka. DS.\n\nMartin Söderberg \nOrdförande Upplands Golfförbund \nMobil: 0703-747400 \nMartin.soderberg@upplandsgolf.se \n\n
URL:https://www.upplandsgolf.se/event/styrelsemote-28/
CATEGORIES:UGF möten
END:VEVENT
END:VCALENDAR