BEGIN:VCALENDAR
VERSION:2.0
PRODID:-//Upplands Golfförbund - ECPv4.6.9//NONSGML v1.0//EN
CALSCALE:GREGORIAN
METHOD:PUBLISH
X-WR-CALNAME:Upplands Golfförbund
X-ORIGINAL-URL:https://www.upplandsgolf.se
X-WR-CALDESC:Events for Upplands Golfförbund
BEGIN:VEVENT
DTSTART;TZID=Europe/Stockholm:20230118T180000
DTEND;TZID=Europe/Stockholm:20230118T210000
DTSTAMP:20260420T005104
CREATED:20221206T183646Z
LAST-MODIFIED:20221206T183646Z
UID:10685-1674064800-1674075600@www.upplandsgolf.se
SUMMARY:Styrelsemöte
DESCRIPTION:
URL:https://www.upplandsgolf.se/event/styrelsemote-27/
CATEGORIES:UGF möten
END:VEVENT
END:VCALENDAR