BEGIN:VCALENDAR
VERSION:2.0
PRODID:-//Upplands Golfförbund - ECPv4.6.9//NONSGML v1.0//EN
CALSCALE:GREGORIAN
METHOD:PUBLISH
X-WR-CALNAME:Upplands Golfförbund
X-ORIGINAL-URL:https://www.upplandsgolf.se
X-WR-CALDESC:Events for Upplands Golfförbund
BEGIN:VEVENT
DTSTART;TZID=Europe/Stockholm:20221116T180000
DTEND;TZID=Europe/Stockholm:20221116T200000
DTSTAMP:20260420T005036
CREATED:20211223T091037Z
LAST-MODIFIED:20221023T075021Z
UID:9733-1668621600-1668628800@www.upplandsgolf.se
SUMMARY:Styrelsemöte
DESCRIPTION:
URL:https://www.upplandsgolf.se/event/styrelsemote-26/
LOCATION:Håmö Gård \, Uppsala\, 755 92
CATEGORIES:UGF möten
END:VEVENT
END:VCALENDAR