BEGIN:VCALENDAR
VERSION:2.0
PRODID:-//Upplands Golfförbund - ECPv4.6.9//NONSGML v1.0//EN
CALSCALE:GREGORIAN
METHOD:PUBLISH
X-WR-CALNAME:Upplands Golfförbund
X-ORIGINAL-URL:https://www.upplandsgolf.se
X-WR-CALDESC:Events for Upplands Golfförbund
BEGIN:VEVENT
DTSTART;TZID=Europe/Stockholm:20220922T180000
DTEND;TZID=Europe/Stockholm:20220922T210000
DTSTAMP:20260420T004644
CREATED:20211223T090630Z
LAST-MODIFIED:20220916T071038Z
UID:9726-1663869600-1663880400@www.upplandsgolf.se
SUMMARY:Styrelsemöte
DESCRIPTION:
URL:https://www.upplandsgolf.se/event/styrelsemote-24/
LOCATION:Håmö Gård \, Uppsala\, 755 92
CATEGORIES:UGF möten
END:VEVENT
END:VCALENDAR