BEGIN:VCALENDAR
VERSION:2.0
PRODID:-//Upplands Golfförbund - ECPv4.6.9//NONSGML v1.0//EN
CALSCALE:GREGORIAN
METHOD:PUBLISH
X-WR-CALNAME:Upplands Golfförbund
X-ORIGINAL-URL:https://www.upplandsgolf.se
X-WR-CALDESC:Events for Upplands Golfförbund
BEGIN:VEVENT
DTSTART;TZID=Europe/Stockholm:20211007T190000
DTEND;TZID=Europe/Stockholm:20211007T210000
DTSTAMP:20260420T042051
CREATED:20210211T160325Z
LAST-MODIFIED:20211004T084728Z
UID:8872-1633633200-1633640400@www.upplandsgolf.se
SUMMARY:Styrelsemöte
DESCRIPTION:
URL:https://www.upplandsgolf.se/event/styrelsemote-17/
CATEGORIES:UGF möten
END:VEVENT
END:VCALENDAR