BEGIN:VCALENDAR
VERSION:2.0
PRODID:-//Upplands Golfförbund - ECPv4.6.9//NONSGML v1.0//EN
CALSCALE:GREGORIAN
METHOD:PUBLISH
X-WR-CALNAME:Upplands Golfförbund
X-ORIGINAL-URL:https://www.upplandsgolf.se
X-WR-CALDESC:Events for Upplands Golfförbund
BEGIN:VEVENT
DTSTART;TZID=Europe/Stockholm:20210811T180000
DTEND;TZID=Europe/Stockholm:20210811T200000
DTSTAMP:20260420T054116
CREATED:20210211T155816Z
LAST-MODIFIED:20210808T084448Z
UID:8866-1628704800-1628712000@www.upplandsgolf.se
SUMMARY:Styrelsemöte
DESCRIPTION:Mötet kommer att ske digitalt. Stefan Ståhl skickar ut länk till mötet. \n\n
URL:https://www.upplandsgolf.se/event/styrelsemote-15/
CATEGORIES:UGF möten
END:VEVENT
END:VCALENDAR