BEGIN:VCALENDAR
VERSION:2.0
PRODID:-//Upplands Golfförbund - ECPv4.6.9//NONSGML v1.0//EN
CALSCALE:GREGORIAN
METHOD:PUBLISH
X-WR-CALNAME:Upplands Golfförbund
X-ORIGINAL-URL:https://www.upplandsgolf.se
X-WR-CALDESC:Events for Upplands Golfförbund
BEGIN:VEVENT
DTSTART;TZID=Europe/Stockholm:20210506T000000
DTEND;TZID=Europe/Stockholm:20210506T000000
DTSTAMP:20260420T054008
CREATED:20210211T155352Z
LAST-MODIFIED:20210211T155352Z
UID:8860-1620259200-1620259200@www.upplandsgolf.se
SUMMARY:Styrelsemöte
DESCRIPTION:
URL:https://www.upplandsgolf.se/event/styrelsemote-14/
CATEGORIES:UGF möten
END:VEVENT
END:VCALENDAR