BEGIN:VCALENDAR
VERSION:2.0
PRODID:-//Upplands Golfförbund - ECPv4.6.9//NONSGML v1.0//EN
CALSCALE:GREGORIAN
METHOD:PUBLISH
X-WR-CALNAME:Upplands Golfförbund
X-ORIGINAL-URL:https://www.upplandsgolf.se
X-WR-CALDESC:Events for Upplands Golfförbund
BEGIN:VEVENT
DTSTART;TZID=Europe/Stockholm:20210211T190000
DTEND;TZID=Europe/Stockholm:20210211T210000
DTSTAMP:20260420T054034
CREATED:20210211T154134Z
LAST-MODIFIED:20210211T154134Z
UID:8850-1613070000-1613077200@www.upplandsgolf.se
SUMMARY:Styrelsemöte
DESCRIPTION:
URL:https://www.upplandsgolf.se/event/styrelsemote-11/
CATEGORIES:UGF möten
END:VEVENT
END:VCALENDAR