BEGIN:VCALENDAR
VERSION:2.0
PRODID:-//Upplands Golfförbund - ECPv4.6.9//NONSGML v1.0//EN
CALSCALE:GREGORIAN
METHOD:PUBLISH
X-WR-CALNAME:Upplands Golfförbund
X-ORIGINAL-URL:https://www.upplandsgolf.se
X-WR-CALDESC:Events for Upplands Golfförbund
BEGIN:VEVENT
DTSTART;TZID=Europe/Stockholm:20191205T180000
DTEND;TZID=Europe/Stockholm:20191205T210000
DTSTAMP:20260420T072235
CREATED:20190105T145026Z
LAST-MODIFIED:20190105T160008Z
UID:6901-1575568800-1575579600@www.upplandsgolf.se
SUMMARY:Styrelsemöte
DESCRIPTION:
URL:https://www.upplandsgolf.se/event/styrelsemote-10/
END:VEVENT
END:VCALENDAR