BEGIN:VCALENDAR
VERSION:2.0
PRODID:-//Upplands Golfförbund - ECPv4.6.9//NONSGML v1.0//EN
CALSCALE:GREGORIAN
METHOD:PUBLISH
X-WR-CALNAME:Upplands Golfförbund
X-ORIGINAL-URL:https://www.upplandsgolf.se
X-WR-CALDESC:Events for Upplands Golfförbund
BEGIN:VEVENT
DTSTART;TZID=Europe/Stockholm:20210424T000000
DTEND;TZID=Europe/Stockholm:20210425T000000
DTSTAMP:20260420T054919
CREATED:20210211T155107Z
LAST-MODIFIED:20210211T155232Z
UID:8858-1619222400-1619308800@www.upplandsgolf.se
SUMMARY:SGF Förbundsmöte
DESCRIPTION:
URL:https://www.upplandsgolf.se/event/sgf-forbundsmote/
END:VEVENT
END:VCALENDAR