BEGIN:VCALENDAR
VERSION:2.0
PRODID:-//Upplands Golfförbund - ECPv4.6.9//NONSGML v1.0//EN
CALSCALE:GREGORIAN
METHOD:PUBLISH
X-WR-CALNAME:Upplands Golfförbund
X-ORIGINAL-URL:https://www.upplandsgolf.se
X-WR-CALDESC:Events for Upplands Golfförbund
BEGIN:VEVENT
DTSTART;VALUE=DATE:20190427
DTEND;VALUE=DATE:20190429
DTSTAMP:20260420T104430
CREATED:20190124T143552Z
LAST-MODIFIED:20190124T143552Z
UID:6932-1556323200-1556495999@www.upplandsgolf.se
SUMMARY:SGF Förbundsmöte och Golfting
DESCRIPTION:
URL:https://www.upplandsgolf.se/event/sgf-forbundsmote-och-golfting/
END:VEVENT
END:VCALENDAR