BEGIN:VCALENDAR
VERSION:2.0
PRODID:-//Upplands Golfförbund - ECPv4.6.9//NONSGML v1.0//EN
CALSCALE:GREGORIAN
METHOD:PUBLISH
X-WR-CALNAME:Upplands Golfförbund
X-ORIGINAL-URL:https://www.upplandsgolf.se
X-WR-CALDESC:Events for Upplands Golfförbund
BEGIN:VEVENT
DTSTART;VALUE=DATE:20230422
DTEND;VALUE=DATE:20230424
DTSTAMP:20260420T005341
CREATED:20230117T115525Z
LAST-MODIFIED:20230117T115525Z
UID:10800-1682121600-1682294399@www.upplandsgolf.se
SUMMARY:SGF Förbundsmöte
DESCRIPTION:
URL:https://www.upplandsgolf.se/event/sgf-forbundsmote-3/
END:VEVENT
END:VCALENDAR