BEGIN:VCALENDAR
VERSION:2.0
PRODID:-//Upplands Golfförbund - ECPv4.6.9//NONSGML v1.0//EN
CALSCALE:GREGORIAN
METHOD:PUBLISH
X-WR-CALNAME:Upplands Golfförbund
X-ORIGINAL-URL:https://www.upplandsgolf.se
X-WR-CALDESC:Events for Upplands Golfförbund
BEGIN:VEVENT
DTSTART;VALUE=DATE:20170521
DTEND;VALUE=DATE:20170522
DTSTAMP:20260421T002934
CREATED:20170516T185139Z
LAST-MODIFIED:20170516T185456Z
UID:2418-1495324800-1495411199@www.upplandsgolf.se
SUMMARY:Seriespelet omgång 1
DESCRIPTION:
URL:https://www.upplandsgolf.se/event/seriespelet-startar/
CATEGORIES:Tävling
END:VEVENT
END:VCALENDAR