BEGIN:VCALENDAR
VERSION:2.0
PRODID:-//Upplands Golfförbund - ECPv4.6.9//NONSGML v1.0//EN
CALSCALE:GREGORIAN
METHOD:PUBLISH
X-WR-CALNAME:Upplands Golfförbund
X-ORIGINAL-URL:https://www.upplandsgolf.se
X-WR-CALDESC:Events for Upplands Golfförbund
BEGIN:VEVENT
DTSTART;TZID=Europe/Stockholm:20170620T090000
DTEND;TZID=Europe/Stockholm:20170620T170000
DTSTAMP:20260420T210931
CREATED:20170531T193549Z
LAST-MODIFIED:20170619T074622Z
UID:2647-1497949200-1497978000@www.upplandsgolf.se
SUMMARY:Seriespel Seniorer omg 2
DESCRIPTION:
URL:https://www.upplandsgolf.se/event/seriespel-seniorer-omg-2/
END:VEVENT
END:VCALENDAR