BEGIN:VCALENDAR
VERSION:2.0
PRODID:-//Upplands Golfförbund - ECPv4.6.9//NONSGML v1.0//EN
CALSCALE:GREGORIAN
METHOD:PUBLISH
X-WR-CALNAME:Upplands Golfförbund
X-ORIGINAL-URL:https://www.upplandsgolf.se
X-WR-CALDESC:Events for Upplands Golfförbund
BEGIN:VEVENT
DTSTART;VALUE=DATE:20190528
DTEND;VALUE=DATE:20190529
DTSTAMP:20260420T091816
CREATED:20190222T162703Z
LAST-MODIFIED:20190222T162845Z
UID:7052-1559001600-1559087999@www.upplandsgolf.se
SUMMARY:Seriespel seniorer Omg 1
DESCRIPTION:
URL:https://www.upplandsgolf.se/event/seriespel-seniorer-omg-1/
END:VEVENT
END:VCALENDAR