BEGIN:VCALENDAR
VERSION:2.0
PRODID:-//Upplands Golfförbund - ECPv4.6.9//NONSGML v1.0//EN
CALSCALE:GREGORIAN
METHOD:PUBLISH
X-WR-CALNAME:Upplands Golfförbund
X-ORIGINAL-URL:https://www.upplandsgolf.se
X-WR-CALDESC:Events for Upplands Golfförbund
BEGIN:VEVENT
DTSTART;VALUE=DATE:20170523
DTEND;VALUE=DATE:20170524
DTSTAMP:20260421T004710
CREATED:20170516T185348Z
LAST-MODIFIED:20170516T185523Z
UID:2420-1495497600-1495583999@www.upplandsgolf.se
SUMMARY:Seniorernas seriespel omgång 1
DESCRIPTION:
URL:https://www.upplandsgolf.se/event/seniorernas-seriespel-startar/
CATEGORIES:Seniorer,Tävling
END:VEVENT
END:VCALENDAR