BEGIN:VCALENDAR
VERSION:2.0
PRODID:-//Upplands Golfförbund - ECPv4.6.9//NONSGML v1.0//EN
CALSCALE:GREGORIAN
METHOD:PUBLISH
X-WR-CALNAME:Upplands Golfförbund
X-ORIGINAL-URL:https://www.upplandsgolf.se
X-WR-CALDESC:Events for Upplands Golfförbund
BEGIN:VEVENT
DTSTART;VALUE=DATE:20180814
DTEND;VALUE=DATE:20180815
DTSTAMP:20260420T142110
CREATED:20180427T144225Z
LAST-MODIFIED:20180427T145333Z
UID:4726-1534204800-1534291199@www.upplandsgolf.se
SUMMARY:Seniorernas seriespel #3
DESCRIPTION:
URL:https://www.upplandsgolf.se/event/seniorernas-seriespel-3/
CATEGORIES:Seniorer,Tävling
END:VEVENT
END:VCALENDAR