BEGIN:VCALENDAR
VERSION:2.0
PRODID:-//Upplands Golfförbund - ECPv4.6.9//NONSGML v1.0//EN
CALSCALE:GREGORIAN
METHOD:PUBLISH
X-WR-CALNAME:Upplands Golfförbund
X-ORIGINAL-URL:https://www.upplandsgolf.se
X-WR-CALDESC:Events for Upplands Golfförbund
BEGIN:VEVENT
DTSTART;TZID=Europe/Stockholm:20180911T083000
DTEND;TZID=Europe/Stockholm:20180911T170000
DTSTAMP:20260420T124643
CREATED:20180804T103236Z
LAST-MODIFIED:20180804T103355Z
UID:6147-1536654600-1536685200@www.upplandsgolf.se
SUMMARY:Seniorernas avslutning
DESCRIPTION:
URL:https://www.upplandsgolf.se/event/seniorernas-avslutning/
LOCATION:Håmö Gård \, Uppsala\, 755 92
CATEGORIES:Seniorer
END:VEVENT
END:VCALENDAR