BEGIN:VCALENDAR
VERSION:2.0
PRODID:-//Upplands Golfförbund - ECPv4.6.9//NONSGML v1.0//EN
CALSCALE:GREGORIAN
METHOD:PUBLISH
X-WR-CALNAME:Upplands Golfförbund
X-ORIGINAL-URL:https://www.upplandsgolf.se
X-WR-CALDESC:Events for Upplands Golfförbund
BEGIN:VEVENT
DTSTART;VALUE=DATE:20190827
DTEND;VALUE=DATE:20190828
DTSTAMP:20260420T072523
CREATED:20190803T085416Z
LAST-MODIFIED:20190803T085416Z
UID:7645-1566864000-1566950399@www.upplandsgolf.se
SUMMARY:Seniorer Seriespel omgång 4
DESCRIPTION:
URL:https://www.upplandsgolf.se/event/seniorer-seriespel-omgang-4/
END:VEVENT
END:VCALENDAR