BEGIN:VCALENDAR
VERSION:2.0
PRODID:-//Upplands Golfförbund - ECPv4.6.9//NONSGML v1.0//EN
CALSCALE:GREGORIAN
METHOD:PUBLISH
X-WR-CALNAME:Upplands Golfförbund
X-ORIGINAL-URL:https://www.upplandsgolf.se
X-WR-CALDESC:Events for Upplands Golfförbund
BEGIN:VEVENT
DTSTART;TZID=Europe/Stockholm:20180812T080000
DTEND;TZID=Europe/Stockholm:20180812T170000
DTSTAMP:20260420T140706
CREATED:20180808T124924Z
LAST-MODIFIED:20180808T125020Z
UID:6167-1534060800-1534093200@www.upplandsgolf.se
SUMMARY:Rajder Kopp #3
DESCRIPTION:
URL:https://www.upplandsgolf.se/event/rajder-kopp/
LOCATION:Gärdebyn 100\, Alunda\, 747 30
CATEGORIES:Junior-Elit,Tävling
END:VEVENT
END:VCALENDAR