BEGIN:VCALENDAR
VERSION:2.0
PRODID:-//Upplands Golfförbund - ECPv4.6.9//NONSGML v1.0//EN
CALSCALE:GREGORIAN
METHOD:PUBLISH
X-WR-CALNAME:Upplands Golfförbund
X-ORIGINAL-URL:https://www.upplandsgolf.se
X-WR-CALDESC:Events for Upplands Golfförbund
BEGIN:VEVENT
DTSTART;VALUE=DATE:20170630
DTEND;VALUE=DATE:20170701
DTSTAMP:20260420T210030
CREATED:20170424T181800Z
LAST-MODIFIED:20170424T181800Z
UID:1996-1498780800-1498867199@www.upplandsgolf.se
SUMMARY:Rajder Kopp omg 2
DESCRIPTION:
URL:https://www.upplandsgolf.se/event/rajder-kopp-omg-2/
LOCATION:Åkersberg 1\, ENKÖPING\, 749 46\, Sverige
CATEGORIES:Junior-Elit
END:VEVENT
END:VCALENDAR