BEGIN:VCALENDAR
VERSION:2.0
PRODID:-//Upplands Golfförbund - ECPv4.6.9//NONSGML v1.0//EN
CALSCALE:GREGORIAN
METHOD:PUBLISH
X-WR-CALNAME:Upplands Golfförbund
X-ORIGINAL-URL:https://www.upplandsgolf.se
X-WR-CALDESC:Events for Upplands Golfförbund
BEGIN:VEVENT
DTSTART;TZID=Europe/Stockholm:20180604T180000
DTEND;TZID=Europe/Stockholm:20180604T200000
DTSTAMP:20260420T160012
CREATED:20180509T174323Z
LAST-MODIFIED:20180602T174821Z
UID:4898-1528135200-1528142400@www.upplandsgolf.se
SUMMARY:Paneldebatt om anläggningar samt idrott för äldre
DESCRIPTION:
URL:https://www.upplandsgolf.se/event/paneldebatt-om-anlaggningar-samt-idrott-for-aldre/
CATEGORIES:Bana miljö,Kommuner,Seniorer
ATTACH;FMTTYPE=image/jpeg:https://www.upplandsgolf.se/wp-content/uploads/2018/05/Upplandsidrotten-paneldebatt-2018-06-04-Skärmklipp.jpg
END:VEVENT
END:VCALENDAR