BEGIN:VCALENDAR
VERSION:2.0
PRODID:-//Upplands Golfförbund - ECPv4.6.9//NONSGML v1.0//EN
CALSCALE:GREGORIAN
METHOD:PUBLISH
X-WR-CALNAME:Upplands Golfförbund
X-ORIGINAL-URL:https://www.upplandsgolf.se
X-WR-CALDESC:Events for Upplands Golfförbund
BEGIN:VEVENT
DTSTART;VALUE=DATE:20190816
DTEND;VALUE=DATE:20190817
DTSTAMP:20260420T091546
CREATED:20190124T143824Z
LAST-MODIFIED:20190809T082304Z
UID:6934-1565913600-1565999999@www.upplandsgolf.se
SUMMARY:Ordförandekonferens
DESCRIPTION:Ordförandekonferens 16 augusti på Olandsbygdens GK Agenda – kopia \n\n
URL:https://www.upplandsgolf.se/event/orforandekonferens/
LOCATION:Gärdebyn 100\, Alunda\, 747 30
ATTACH;FMTTYPE=image/png:https://www.upplandsgolf.se/wp-content/uploads/2019/08/olandsbygd.png
END:VEVENT
END:VCALENDAR