BEGIN:VCALENDAR
VERSION:2.0
PRODID:-//Upplands Golfförbund - ECPv4.6.9//NONSGML v1.0//EN
CALSCALE:GREGORIAN
METHOD:PUBLISH
X-WR-CALNAME:Upplands Golfförbund
X-ORIGINAL-URL:https://www.upplandsgolf.se
X-WR-CALDESC:Events for Upplands Golfförbund
BEGIN:VEVENT
DTSTART;VALUE=DATE:20180817
DTEND;VALUE=DATE:20180818
DTSTAMP:20260420T141235
CREATED:20180731T120219Z
LAST-MODIFIED:20180731T192442Z
UID:6112-1534464000-1534550399@www.upplandsgolf.se
SUMMARY:Ordförandekonferens med golf
DESCRIPTION:
URL:https://www.upplandsgolf.se/event/ordforandekonferens-med-golf/
LOCATION:Burviks Golfklubb\, KNUTBY\, 740 12  \, Sverige
END:VEVENT
END:VCALENDAR