BEGIN:VCALENDAR
VERSION:2.0
PRODID:-//Upplands Golfförbund - ECPv4.6.9//NONSGML v1.0//EN
CALSCALE:GREGORIAN
METHOD:PUBLISH
X-WR-CALNAME:Upplands Golfförbund
X-ORIGINAL-URL:https://www.upplandsgolf.se
X-WR-CALDESC:Events for Upplands Golfförbund
BEGIN:VEVENT
DTSTART;TZID=Europe/Stockholm:20171122T130000
DTEND;TZID=Europe/Stockholm:20171122T170000
DTSTAMP:20260420T191211
CREATED:20171108T181330Z
LAST-MODIFIED:20171108T181330Z
UID:3686-1511355600-1511370000@www.upplandsgolf.se
SUMMARY:Öppet Hus NIU
DESCRIPTION:
URL:https://www.upplandsgolf.se/event/oppet-hus-niu/
LOCATION:Näs Söderby 104\, Uppsala\, 75591
CATEGORIES:Junior-Elit,Utbildning
END:VEVENT
END:VCALENDAR