BEGIN:VCALENDAR
VERSION:2.0
PRODID:-//Upplands Golfförbund - ECPv4.6.9//NONSGML v1.0//EN
CALSCALE:GREGORIAN
METHOD:PUBLISH
X-WR-CALNAME:Upplands Golfförbund
X-ORIGINAL-URL:https://www.upplandsgolf.se
X-WR-CALDESC:Events for Upplands Golfförbund
BEGIN:VEVENT
DTSTART;VALUE=DATE:20190820
DTEND;VALUE=DATE:20190821
DTSTAMP:20260420T091635
CREATED:20190803T085707Z
LAST-MODIFIED:20190803T110341Z
UID:7649-1566259200-1566345599@www.upplandsgolf.se
SUMMARY:Old Members Greensome Burvik
DESCRIPTION:
URL:https://www.upplandsgolf.se/event/old-members-greensome-burvik/
CATEGORIES:Seniorer
END:VEVENT
END:VCALENDAR