BEGIN:VCALENDAR
VERSION:2.0
PRODID:-//Upplands Golfförbund - ECPv4.6.9//NONSGML v1.0//EN
CALSCALE:GREGORIAN
METHOD:PUBLISH
X-WR-CALNAME:Upplands Golfförbund
X-ORIGINAL-URL:https://www.upplandsgolf.se
X-WR-CALDESC:Events for Upplands Golfförbund
BEGIN:VEVENT
DTSTART;TZID=Europe/Stockholm:20260318T180000
DTEND;TZID=Europe/Stockholm:20260318T200000
DTSTAMP:20260419T144329
CREATED:20260115T145754Z
LAST-MODIFIED:20260115T145938Z
UID:17094-1773856800-1773864000@www.upplandsgolf.se
SUMMARY:Möte på Biotopia
DESCRIPTION:NATURVÄRDEN OCH VILDARE GOLF \n\n
URL:https://www.upplandsgolf.se/event/mote-pa-biotopia-18-mars-naturvarden-och-vildare-golf/
CATEGORIES:Hållbar Golfanläggning
ATTACH;FMTTYPE=image/jpeg:https://www.upplandsgolf.se/wp-content/uploads/2026/01/Biotopia.jpg
END:VEVENT
END:VCALENDAR