BEGIN:VCALENDAR
VERSION:2.0
PRODID:-//Upplands Golfförbund - ECPv4.6.9//NONSGML v1.0//EN
CALSCALE:GREGORIAN
METHOD:PUBLISH
X-WR-CALNAME:Upplands Golfförbund
X-ORIGINAL-URL:https://www.upplandsgolf.se
X-WR-CALDESC:Events for Upplands Golfförbund
BEGIN:VEVENT
DTSTART;TZID=Europe/Stockholm:20230319T000000
DTEND;TZID=Europe/Stockholm:20230319T000000
DTSTAMP:20260419T230918
CREATED:20230214T201420Z
LAST-MODIFIED:20230308T153846Z
UID:10835-1679184000-1679184000@www.upplandsgolf.se
SUMMARY:Juniorledare nätverksmöte
DESCRIPTION:
URL:https://www.upplandsgolf.se/event/juniorledarnatverksmote/
CATEGORIES:Junior-Elit
ATTACH;FMTTYPE=image/jpeg:https://www.upplandsgolf.se/wp-content/uploads/2022/10/fyrdistriktsmatch-2022.jpg
END:VEVENT
END:VCALENDAR