BEGIN:VCALENDAR
VERSION:2.0
PRODID:-//Upplands Golfförbund - ECPv4.6.9//NONSGML v1.0//EN
CALSCALE:GREGORIAN
METHOD:PUBLISH
X-WR-CALNAME:Upplands Golfförbund
X-ORIGINAL-URL:https://www.upplandsgolf.se
X-WR-CALDESC:Events for Upplands Golfförbund
BEGIN:VEVENT
DTSTART;TZID=Europe/Stockholm:20231019T180000
DTEND;TZID=Europe/Stockholm:20231019T203000
DTSTAMP:20260419T231456
CREATED:20221206T185255Z
LAST-MODIFIED:20231013T101911Z
UID:10707-1697738400-1697747400@www.upplandsgolf.se
SUMMARY:Höstårsmöte
DESCRIPTION:Klubbordföranden/ klubbchefer i Upplands Golfdistrikt.\nHärmed kallas ni till höstårsmöte med Upplands Golfdistriktsförbund\ntorsdagen den 19 Oktober 2023 kl 18:00 på Söderby GK\, Uppsala. \n\n
URL:https://www.upplandsgolf.se/event/hostarsmote-4/
CATEGORIES:Årsmöte
END:VEVENT
END:VCALENDAR