BEGIN:VCALENDAR
VERSION:2.0
PRODID:-//Upplands Golfförbund - ECPv4.6.9//NONSGML v1.0//EN
CALSCALE:GREGORIAN
METHOD:PUBLISH
X-WR-CALNAME:Upplands Golfförbund
X-ORIGINAL-URL:https://www.upplandsgolf.se
X-WR-CALDESC:Events for Upplands Golfförbund
BEGIN:VEVENT
DTSTART;TZID=Europe/Stockholm:20221020T180000
DTEND;TZID=Europe/Stockholm:20221020T210000
DTSTAMP:20260420T005103
CREATED:20211223T090930Z
LAST-MODIFIED:20220830T152719Z
UID:9731-1666288800-1666299600@www.upplandsgolf.se
SUMMARY:Höstårsmöte
DESCRIPTION:
URL:https://www.upplandsgolf.se/event/hostarsmote-3/
LOCATION:Näs Söderby 104\, Uppsala\, 75591
CATEGORIES:Årsmöte
END:VEVENT
END:VCALENDAR