BEGIN:VCALENDAR
VERSION:2.0
PRODID:-//Upplands Golfförbund - ECPv4.6.9//NONSGML v1.0//EN
CALSCALE:GREGORIAN
METHOD:PUBLISH
X-WR-CALNAME:Upplands Golfförbund
X-ORIGINAL-URL:https://www.upplandsgolf.se
X-WR-CALDESC:Events for Upplands Golfförbund
BEGIN:VEVENT
DTSTART;TZID=Europe/Stockholm:20211014T180000
DTEND;TZID=Europe/Stockholm:20211014T200000
DTSTAMP:20260420T042138
CREATED:20210211T160423Z
LAST-MODIFIED:20211004T085127Z
UID:8874-1634234400-1634241600@www.upplandsgolf.se
SUMMARY:Höstårsmöte
DESCRIPTION:
URL:https://www.upplandsgolf.se/event/hostarsmote-2/
LOCATION:Näs Söderby 104\, Uppsala\, 75591
CATEGORIES:UGF möten
END:VEVENT
END:VCALENDAR