BEGIN:VCALENDAR
VERSION:2.0
PRODID:-//Upplands Golfförbund - ECPv4.6.9//NONSGML v1.0//EN
CALSCALE:GREGORIAN
METHOD:PUBLISH
X-WR-CALNAME:Upplands Golfförbund
X-ORIGINAL-URL:https://www.upplandsgolf.se
X-WR-CALDESC:Events for Upplands Golfförbund
BEGIN:VEVENT
DTSTART;TZID=Europe/Stockholm:20171111T083000
DTEND;TZID=Europe/Stockholm:20171111T160000
DTSTAMP:20260420T191020
CREATED:20170819T065353Z
LAST-MODIFIED:20170819T065410Z
UID:3219-1510389000-1510416000@www.upplandsgolf.se
SUMMARY:Golftinget 2017
DESCRIPTION:
URL:https://www.upplandsgolf.se/event/golftinget-2017/
CATEGORIES:Utbildning
END:VEVENT
END:VCALENDAR