BEGIN:VCALENDAR
VERSION:2.0
PRODID:-//Upplands Golfförbund - ECPv4.6.9//NONSGML v1.0//EN
CALSCALE:GREGORIAN
METHOD:PUBLISH
X-WR-CALNAME:Upplands Golfförbund
X-ORIGINAL-URL:https://www.upplandsgolf.se
X-WR-CALDESC:Events for Upplands Golfförbund
BEGIN:VEVENT
DTSTART;TZID=Europe/Stockholm:20191123T083000
DTEND;TZID=Europe/Stockholm:20191123T160000
DTSTAMP:20260420T071946
CREATED:20190105T144945Z
LAST-MODIFIED:20191108T174805Z
UID:6899-1574497800-1574524800@www.upplandsgolf.se
SUMMARY:Golfting UGF
DESCRIPTION:Program och tider \n– Samling med kaffe och macka 08:30 – 09:00  \n– Gemensamt pass från 09:00-12:00\, Medverkan av bl.a. Gunnar Håkansson\, generalsekreterare SGF\, Stefan Bengtsson\, FS-ledamot.  \n-Lunch 12:00-13:00  \n– Seminariegruppvisa möten 13.00 –  \n\nOrdförande\nSeniorer\nBana och Miljö\nKommunikation och Marknad\nJuniorer\nTävling och regler\n\n– Kaffe kommer att vara tillgängligt både på för-och eftermiddagen.  \nVissa tidsförskjutningar kan ske.  \nHela programmet kan du se på UGFs hemsida.  \nAnmälan\, för planeringens skull\, görs senast den 19/11 på webben. Länk har skickats till samtliga klubbordförande/klubbchefer och kanslier.  \n\nVi vill att klubben anmäler minst en person per seminariegrupp. \nVälkomna \nHasse Andersson \nOrdförande \nUpplands Golfförbund \n070-567 16 14 \nHasse.andersson@upplandsgolf.se \n\n
URL:https://www.upplandsgolf.se/event/golfting/
LOCATION:Edith Södergrans gata 6\, Uppsala\, 75460\, Sverige
CATEGORIES:UGF möten
ATTACH;FMTTYPE=image/png:https://www.upplandsgolf.se/wp-content/uploads/2018/06/arenahotell.png
END:VEVENT
END:VCALENDAR