BEGIN:VCALENDAR
VERSION:2.0
PRODID:-//Upplands Golfförbund - ECPv4.6.9//NONSGML v1.0//EN
CALSCALE:GREGORIAN
METHOD:PUBLISH
X-WR-CALNAME:Upplands Golfförbund
X-ORIGINAL-URL:https://www.upplandsgolf.se
X-WR-CALDESC:Events for Upplands Golfförbund
BEGIN:VEVENT
DTSTART;VALUE=DATE:20231125
DTEND;VALUE=DATE:20231126
DTSTAMP:20260419T211255
CREATED:20221206T185512Z
LAST-MODIFIED:20231030T142040Z
UID:10711-1700870400-1700956799@www.upplandsgolf.se
SUMMARY:Golfting
DESCRIPTION:Kallelse Golftinget 2023\nKlubbordförande/Klubbchefer/Greenkeepers/PGA-pros/utbildare samt Upplands golfdistrikts styrelse- och kommittéledamöter. \nÅrets Golfting väntar på din anmälan! \nLördagen den 25 november 2023 kl. 08:30-16:00. \nArenahotellet\, Tennisvägen\, Uppsala \nProgram och tider: \n08:30 – 09:00 Samling med kaffe och smörgås \n09:00 – 09:30 Läget i Uppland – Ordförande Martin Söderberg \n09:45 – 11:30 Gruppvisa seminarier \n– Ordförande \n– Bana/Miljö \n– Senior – Tävling/Regler \n– Junior/Elit-Tävling \n11:30 – 11:45 Seminariesammanfattning \n11:45 – 12:00 Utdelning av utmärkelser \n– Årets Golfare \n– Årets Stjärnskott \n-Årets Ledare \n– Årets Kåbostipendiat \n12:00-13:00 Lunch \n13:00 – 15:45 Strategi 2031 – golfen i framtiden – SGF \nVi tar del av fakta från SGF och Demoskop\, och diskuterar utmaningar och lösningar \n\nTrender i samhället enligt Demoskop – vilka samhällsutmaningar måste golfen förhålla sig till för framtiden\nNuläget i Golfsverige och våra utmaningar\nVägen framåt\, vilka är de viktigaste frågorna att lösa nationellt samt regionalt?\n\n15:45 – 16:00 Avslutning \nLänk till anmälan: https://ugf.typeform.com/to/p74SWofD \nLänk till enkät om Fritt spel för juniorer: https://ugf.typeform.com/to/HjMYRA9E \n  \nMartin Söderberg \nOrdförande Upplands Golfförbund \nMobil: 0703-747400 \nMartin.soderberg@upplandsgolf.se \n\n
URL:https://www.upplandsgolf.se/event/golfting-4/
LOCATION:Edith Södergrans gata 6\, Uppsala\, 75460\, Sverige
CATEGORIES:Golfting
ATTACH;FMTTYPE=image/png:https://www.upplandsgolf.se/wp-content/uploads/2018/06/arenahotell.png
END:VEVENT
END:VCALENDAR