BEGIN:VCALENDAR
VERSION:2.0
PRODID:-//Upplands Golfförbund - ECPv4.6.9//NONSGML v1.0//EN
CALSCALE:GREGORIAN
METHOD:PUBLISH
X-WR-CALNAME:Upplands Golfförbund
X-ORIGINAL-URL:https://www.upplandsgolf.se
X-WR-CALDESC:Events for Upplands Golfförbund
BEGIN:VEVENT
DTSTART;TZID=Europe/Stockholm:20180424T180000
DTEND;TZID=Europe/Stockholm:20180424T200000
DTSTAMP:20260420T172715
CREATED:20180220T090426Z
LAST-MODIFIED:20180418T134158Z
UID:3976-1524592800-1524600000@www.upplandsgolf.se
SUMMARY:Golfnyttan i samhället - kommunträff 1
DESCRIPTION:
URL:https://www.upplandsgolf.se/event/golfnyttan-i-samhallet-kommuntraff/
CATEGORIES:Kommuner
END:VEVENT
END:VCALENDAR