BEGIN:VCALENDAR
VERSION:2.0
PRODID:-//Upplands Golfförbund - ECPv4.6.9//NONSGML v1.0//EN
CALSCALE:GREGORIAN
METHOD:PUBLISH
X-WR-CALNAME:Upplands Golfförbund
X-ORIGINAL-URL:https://www.upplandsgolf.se
X-WR-CALDESC:Events for Upplands Golfförbund
BEGIN:VEVENT
DTSTART;VALUE=DATE:20170930
DTEND;VALUE=DATE:20171002
DTSTAMP:20260420T191341
CREATED:20170825T210845Z
LAST-MODIFIED:20170923T070350Z
UID:3273-1506729600-1506902399@www.upplandsgolf.se
SUMMARY:Golfens ledarutbildning steg 2 Fördjupning flyttad till Köpings GK
DESCRIPTION:
URL:https://www.upplandsgolf.se/event/golfens-ledarutbildning-steg-2-fordjupning/
LOCATION:Norra Vibyvägen 187 \, Sigtuna\, 193 91
CATEGORIES:Junior-Elit,Utbildning
END:VEVENT
END:VCALENDAR