BEGIN:VCALENDAR
VERSION:2.0
PRODID:-//Upplands Golfförbund - ECPv4.6.9//NONSGML v1.0//EN
CALSCALE:GREGORIAN
METHOD:PUBLISH
X-WR-CALNAME:Upplands Golfförbund
X-ORIGINAL-URL:https://www.upplandsgolf.se
X-WR-CALDESC:Events for Upplands Golfförbund
BEGIN:VEVENT
DTSTART;TZID=Europe/Stockholm:20180527T090000
DTEND;TZID=Europe/Stockholm:20180527T160000
DTSTAMP:20260420T155826
CREATED:20180120T133316Z
LAST-MODIFIED:20180420T214155Z
UID:3851-1527411600-1527436800@www.upplandsgolf.se
SUMMARY:Golfens Ledarutbildning Steg 1 Praktik
DESCRIPTION:
URL:https://www.upplandsgolf.se/event/golfens-ledarutbildning-steg-1-praktik/
LOCATION:Näs Söderby 104\, Uppsala\, 75591
END:VEVENT
END:VCALENDAR