BEGIN:VCALENDAR
VERSION:2.0
PRODID:-//Upplands Golfförbund - ECPv4.6.9//NONSGML v1.0//EN
CALSCALE:GREGORIAN
METHOD:PUBLISH
X-WR-CALNAME:Upplands Golfförbund
X-ORIGINAL-URL:https://www.upplandsgolf.se
X-WR-CALDESC:Events for Upplands Golfförbund
BEGIN:VEVENT
DTSTART;VALUE=DATE:20190525
DTEND;VALUE=DATE:20190526
DTSTAMP:20260420T091243
CREATED:20190105T123353Z
LAST-MODIFIED:20190105T123353Z
UID:6883-1558742400-1558828799@www.upplandsgolf.se
SUMMARY:Golfens dag
DESCRIPTION:
URL:https://www.upplandsgolf.se/event/golfens-dag-3/
END:VEVENT
END:VCALENDAR