BEGIN:VCALENDAR
VERSION:2.0
PRODID:-//Upplands Golfförbund - ECPv4.6.9//NONSGML v1.0//EN
CALSCALE:GREGORIAN
METHOD:PUBLISH
X-WR-CALNAME:Upplands Golfförbund
X-ORIGINAL-URL:https://www.upplandsgolf.se
X-WR-CALDESC:Events for Upplands Golfförbund
BEGIN:VEVENT
DTSTART;VALUE=DATE:20180526
DTEND;VALUE=DATE:20180527
DTSTAMP:20260420T154619
CREATED:20180418T073416Z
LAST-MODIFIED:20180523T151757Z
UID:4577-1527292800-1527379199@www.upplandsgolf.se
SUMMARY:Golfens Dag
DESCRIPTION:
URL:https://www.upplandsgolf.se/event/golfens-dag-2/
ATTACH;FMTTYPE=image/jpeg:https://www.upplandsgolf.se/wp-content/uploads/2018/04/golfensdag-fullgrid-2018.jpg
END:VEVENT
END:VCALENDAR