BEGIN:VCALENDAR
VERSION:2.0
PRODID:-//Upplands Golfförbund - ECPv4.6.9//NONSGML v1.0//EN
CALSCALE:GREGORIAN
METHOD:PUBLISH
X-WR-CALNAME:Upplands Golfförbund
X-ORIGINAL-URL:https://www.upplandsgolf.se
X-WR-CALDESC:Events for Upplands Golfförbund
BEGIN:VEVENT
DTSTART;TZID=Europe/Stockholm:20220821T000000
DTEND;TZID=Europe/Stockholm:20220822T000000
DTSTAMP:20260420T004712
CREATED:20211222T135549Z
LAST-MODIFIED:20211222T135549Z
UID:9721-1661040000-1661126400@www.upplandsgolf.se
SUMMARY:Finalspel Åland UGF/EL tour
DESCRIPTION:
URL:https://www.upplandsgolf.se/event/finalspel-aland-ugf-el-tour-2/
CATEGORIES:Tävling
END:VEVENT
END:VCALENDAR